BEGIN:VCALENDAR
VERSION:2.0
PRODID:-//eventon.com NONSGML v1.0//EN
BEGIN:VEVENT
UID:69e76f082014c
DTSTAMP:20260421T233520
DTSTART:20191018T223000Z
DTEND:20191020T050000Z
LOCATION:Near Wexford 
SUMMARY:Power of your True Voice
DESCRIPTION: Express and communicate with ease and confidence in your life. Celebrate the unique and powerful vibration that is within us all... our amazing human voice and experience empowering life-skills to be the ‘true you’ in the world. ‘Chris has the lightest way of reconnecting with the part of me that[..]
END:VEVENT
END:VCALENDAR