BEGIN:VCALENDAR
VERSION:2.0
PRODID:-//eventon.com NONSGML v1.0//EN
BEGIN:VEVENT
UID:69e9c64e1e279
DTSTAMP:20260423T181214
DTSTART:20191011T223000Z
DTEND:20191013T050000Z
LOCATION:Butterfly & Friends\,  Noeggerathstrasse 13\,  53111 Bonn
SUMMARY:Your true Voice
DESCRIPTION: The Australian voice teacher\,  singer and musician Chris James is internationally renowned for his teaching of voi- ce and expression. He inspires people of all ages to di- scover their true voice and integrate the whole body as a powerful instrument into their everyday expression. His seminars are about self-expression\, [..]
END:VEVENT
END:VCALENDAR