BEGIN:VCALENDAR
VERSION:2.0
PRODID:-//eventon.com NONSGML v1.0//EN
BEGIN:VEVENT
UID:69e4f56a5835d
DTSTAMP:20260420T023154
DTSTART:20170125T080000Z
DTEND:20170125T093000Z
LOCATION:Jubilee Hall 180 Jubilee Terrace\,  Bardon\,  QLD 4065
SUMMARY:Big Sing Concert
DESCRIPTION: Chris James internationally acclaimed singer\,  musician and voice teacher in concert – an interactive evening for everyone. Known for his unique ability to ‘bring out the best’ Chris makes it fun and easy.’ ’Chris has the lightest way of delivering love\,  truth and beauty back into vocal expression . .[..]
END:VEVENT
END:VCALENDAR